BEGIN:VCALENDAR
VERSION:2.0
PRODID:-//Starthouse Spessart - ECPv6.15.20//NONSGML v1.0//EN
CALSCALE:GREGORIAN
METHOD:PUBLISH
X-ORIGINAL-URL:https://starthouse.de
X-WR-CALDESC:Veranstaltungen für Starthouse Spessart
REFRESH-INTERVAL;VALUE=DURATION:PT1H
X-Robots-Tag:noindex
X-PUBLISHED-TTL:PT1H
BEGIN:VTIMEZONE
TZID:Europe/Berlin
BEGIN:DAYLIGHT
TZOFFSETFROM:+0100
TZOFFSETTO:+0200
TZNAME:CEST
DTSTART:20250330T010000
END:DAYLIGHT
BEGIN:STANDARD
TZOFFSETFROM:+0200
TZOFFSETTO:+0100
TZNAME:CET
DTSTART:20251026T010000
END:STANDARD
BEGIN:DAYLIGHT
TZOFFSETFROM:+0100
TZOFFSETTO:+0200
TZNAME:CEST
DTSTART:20260329T010000
END:DAYLIGHT
BEGIN:STANDARD
TZOFFSETFROM:+0200
TZOFFSETTO:+0100
TZNAME:CET
DTSTART:20261025T010000
END:STANDARD
BEGIN:DAYLIGHT
TZOFFSETFROM:+0100
TZOFFSETTO:+0200
TZNAME:CEST
DTSTART:20270328T010000
END:DAYLIGHT
BEGIN:STANDARD
TZOFFSETFROM:+0200
TZOFFSETTO:+0100
TZNAME:CET
DTSTART:20271031T010000
END:STANDARD
END:VTIMEZONE
BEGIN:VEVENT
DTSTART;TZID=Europe/Berlin:20260508T100000
DTEND;TZID=Europe/Berlin:20260508T120000
DTSTAMP:20260422T115610
CREATED:20260112T125316Z
LAST-MODIFIED:20260112T125316Z
UID:8182-1778234400-1778241600@starthouse.de
SUMMARY:Beratertag der Aktivsenioren im Starthouse
DESCRIPTION:Seit mehr als 15 Jahren bieten die Aktivsenioren Main-Spessart regelmäßige und ehrenamtliche Beratung für Existenzgründer:innen in der Region an. \nUnter dem Motto „Senioren mit Berufserfahrung aus dem Wirtschaftsleben“ geben sie Hinweise für praxisorientierte Lösungen bei Existenzgründungen\, Startups sowie Existenzsicherung kleinerer und mittlerer Unternehmen. Die Schwerpunkte der Beratung liegen in den Bereichen Businessplan\, Planung\, Controlling\, Finanzen\, Personalwesen\, Marketing und Vertrieb sowie Unternehmensnachfolge.\nIn gemeinsamen und vertraulichen Gesprächen werden Antworten zu aktuellen Herausforderungen im Businessaufbau bzw. der Geschäftsinnovation gesucht. \nDie Beratungen der Aktivsenioren finden zwischen 10.00 und 12.00 Uhr im Digitalen Gründerzentrum\, Starthouse Spessart in der Vorstadtstraße 12\, 97816 Lohr a.Main statt. \nFür alle Termine wird um vorherige Anmeldung über das nachfolgende Formular\, per Mail an starthouse@lohr.de oder telefonisch unter 09352-848 600 beim Team des Starthouse Spessart gebeten. \n\n                    Aktivsenioren 2026Über dichVornameNachnameE-MailTelefonnummerTerminanfrageDer Termin wird durch die AktivSenioren\, bzw. das Team des Starthouse Spessart bestätigt.  \nDie Termine finden im Zeitraum von 10:00 bis 12:00 Uhr statt.  An welchem Termin möchtest du teilnehmen: 22.01.2026 05.03.2026 08.05.2026 16.07.2026 10.09.2026 12.11.2026Favorisierte Uhrzeit:DatenschutzEinverständnis Ich bin mit der Verarbeitung meiner Daten zum Zweck der Terminorganisation und der Weitergabe an die zuständigen Aktivsenioren einverstanden. Ich bin damit einverstanden\, dass diese Website meine eingereichten Informationen speichert\, damit sie auf meine Anfrage antworten können. Terminanfrage abschicken
URL:https://starthouse.de/eventkalender/beratertag-der-aktivsenioren-2026-05/
LOCATION:Starthouse Spessart\, Vorstadtstr. 12\, Lohr am Main\, 97816
CATEGORIES:Beratung,Coaching,Für Gründer:innen,Für Gründungsinteressierte
ATTACH;FMTTYPE=image/png:https://starthouse.de/wp-content/uploads/2024/01/Beratertag-Aktivsenioren-Praesentation.png
END:VEVENT
BEGIN:VEVENT
DTSTART;TZID=Europe/Berlin:20260519T080000
DTEND;TZID=Europe/Berlin:20260519T190000
DTSTAMP:20260422T115610
CREATED:20260122T073648Z
LAST-MODIFIED:20260122T073719Z
UID:8218-1779177600-1779217200@starthouse.de
SUMMARY:Startup! Competition 2026
DESCRIPTION:Bei der Startup! Competition treffen frische Ideen auf reale Herausforderungen: Studierende\, kreative Köpfe und Innovationsbegeisterte entwickeln an einem Tag neue Konzepte für konkrete Challenges aus Wirtschaft und Gesellschaft. \nUnternehmen aus der Region agieren als Challengegeber und liefern praxisnahe Aufgabenstellungen – von Digitalisierung über neue Geschäftsmodelle bis hin zur zukunftsfähigen Nutzung von Räumen und Arealen. Die Teilnehmenden arbeiten in interdisziplinären Teams\, denken offen und präsentieren ihre Ergebnisse am Ende des Tages in kurzen Pitches. \nDie Startup Competition ist ein Raum für Experimentierfreude\, Perspektivwechsel und mutige Ideen – ohne Anspruch auf perfekte Businesspläne\, aber mit viel Potenzial für Weiterentwicklung. \nWann: Dienstag\, 19. Mai 2026\, ab 9:00 Uhr\nCheck-in: ab 08.00 Uhr\nWo: Starthouse Spessart\, Lohr am Main \nFür wen: Studierende\, Gründungsinteressierte\, Kreative & Innovationsbegeisterte \nHighlights: \n\nArbeiten an realen Challenges regionaler Unternehmen\nKreative Teamarbeit & offenes Denken\nPitch der Ergebnisse vor Jury & Publikum\nAustausch mit Unternehmen\, Startups und Netzwerkpartnern\n\n  \n👉 Mitmachen\, mitdenken\, Zukunft gestalten!
URL:https://starthouse.de/eventkalender/startup-competition-2026/
END:VEVENT
BEGIN:VEVENT
DTSTART;TZID=Europe/Berlin:20260519T180000
DTEND;TZID=Europe/Berlin:20260519T203000
DTSTAMP:20260422T115610
CREATED:20260122T072654Z
LAST-MODIFIED:20260122T072654Z
UID:8216-1779213600-1779222600@starthouse.de
SUMMARY:Das große Pitch Finale
DESCRIPTION:Sei dabei\, wenn innovative Ideen auf die Bühne kommen!Zum Abschluss der Startup!Competition 2026 präsentieren die Teams ihre Lösungsideen für Challenges aus dem echten Leben in einem packenden Pitch-Finale. \nWas dich erwartet: \n\nFrische Perspektiven auf aktuelle Herausforderungen aus der Wirtschaft\nKreative digitale Ansätze von interdisziplinären Teams\nEin spannendes Pitch-Battle vor Jury und Publikum\nNetworking bei Getränken & Snacks\n\n  \nPublikum ist unbedingt und herzlich willkommen – der Eintritt ist frei! \nKomm vorbei und erlebe\, wie Innovation entsteht! \nWeitere Infos zur Startup!Competition: Startup Competition – Starthouse Spessart \nDie Startup!Competition ist ein gemeinsames Event mit der Technischen Hochschule Würzburg-Schweinfurt.
URL:https://starthouse.de/eventkalender/das-grosse-pitch-finale-2/
LOCATION:Starthouse Spessart\, Vorstadtstr. 12\, Lohr am Main\, 97816
END:VEVENT
BEGIN:VEVENT
DTSTART;VALUE=DATE:20260708
DTEND;VALUE=DATE:20260710
DTSTAMP:20260422T115610
CREATED:20240116T141732Z
LAST-MODIFIED:20260219T113258Z
UID:3574-1783468800-1783641599@starthouse.de
SUMMARY:Pitch Programm
DESCRIPTION:Zwei Tage volle Power für deinen Pitch! Schnappe dir jetzt einen der vier Plätze im Pitch Programm! \nMehr über das PITCH PROGRAMM erfährst du hier: www.starthouse.de/pitch-programm/
URL:https://starthouse.de/eventkalender/pitch-programm/
LOCATION:Starthouse Spessart\, Vorstadtstr. 12\, Lohr am Main\, 97816
CATEGORIES:Für Gründer:innen
ATTACH;FMTTYPE=image/png:https://starthouse.de/wp-content/uploads/2024/01/Pitch-Programm-LinkedIn.png
ORGANIZER;CN="Starthouse Spessart":MAILTO:starthouse@lohr.de
END:VEVENT
BEGIN:VEVENT
DTSTART;TZID=Europe/Berlin:20260709T170000
DTEND;TZID=Europe/Berlin:20260709T200000
DTSTAMP:20260422T115610
CREATED:20240116T141837Z
LAST-MODIFIED:20260219T134736Z
UID:3576-1783616400-1783627200@starthouse.de
SUMMARY:Höhle der Keiler
DESCRIPTION:Das große Finale des Pitch-Programms mit Pitches der Programmteilnehmer:innen\, Jury- & Publikums-Voting! \nGleichzeitig feiern wir das Starthouse-Sommerfest mit Starthouse-Friends & -Family! \n  \n📅 9. Juli  2026 \n⏰ 17:00 bis ca. 18:30 Uhr \n🍽 & 🍹 mit anschließendem Grillabend  \n📍 Starthouse Spessart\, Vorstadtstraße 12\, Lohr am Main \n  \n 
URL:https://starthouse.de/eventkalender/hoehle-der-keiler/
LOCATION:Starthouse Spessart\, Vorstadtstr. 12\, Lohr am Main\, 97816
CATEGORIES:Für Gründer:innen,Für Gründungsinteressierte,Networking
ORGANIZER;CN="Starthouse Spessart":MAILTO:starthouse@lohr.de
END:VEVENT
BEGIN:VEVENT
DTSTART;TZID=Europe/Berlin:20260716T100000
DTEND;TZID=Europe/Berlin:20260716T120000
DTSTAMP:20260422T115610
CREATED:20260112T125528Z
LAST-MODIFIED:20260112T125528Z
UID:8184-1784196000-1784203200@starthouse.de
SUMMARY:Beratertag der Aktivsenioren im Starthouse
DESCRIPTION:Seit mehr als 15 Jahren bieten die Aktivsenioren Main-Spessart regelmäßige und ehrenamtliche Beratung für Existenzgründer:innen in der Region an. \nUnter dem Motto „Senioren mit Berufserfahrung aus dem Wirtschaftsleben“ geben sie Hinweise für praxisorientierte Lösungen bei Existenzgründungen\, Startups sowie Existenzsicherung kleinerer und mittlerer Unternehmen. Die Schwerpunkte der Beratung liegen in den Bereichen Businessplan\, Planung\, Controlling\, Finanzen\, Personalwesen\, Marketing und Vertrieb sowie Unternehmensnachfolge.\nIn gemeinsamen und vertraulichen Gesprächen werden Antworten zu aktuellen Herausforderungen im Businessaufbau bzw. der Geschäftsinnovation gesucht. \nDie Beratungen der Aktivsenioren finden zwischen 10.00 und 12.00 Uhr im Digitalen Gründerzentrum\, Starthouse Spessart in der Vorstadtstraße 12\, 97816 Lohr a.Main statt. \nFür alle Termine wird um vorherige Anmeldung über das nachfolgende Formular\, per Mail an starthouse@lohr.de oder telefonisch unter 09352-848 600 beim Team des Starthouse Spessart gebeten. \n\n                    Aktivsenioren 2026Über dichVornameNachnameE-MailTelefonnummerTerminanfrageDer Termin wird durch die AktivSenioren\, bzw. das Team des Starthouse Spessart bestätigt.  \nDie Termine finden im Zeitraum von 10:00 bis 12:00 Uhr statt.  An welchem Termin möchtest du teilnehmen: 22.01.2026 05.03.2026 08.05.2026 16.07.2026 10.09.2026 12.11.2026Favorisierte Uhrzeit:DatenschutzEinverständnis Ich bin mit der Verarbeitung meiner Daten zum Zweck der Terminorganisation und der Weitergabe an die zuständigen Aktivsenioren einverstanden. Ich bin damit einverstanden\, dass diese Website meine eingereichten Informationen speichert\, damit sie auf meine Anfrage antworten können. Terminanfrage abschicken
URL:https://starthouse.de/eventkalender/beratertag-der-aktivsenioren-2026-07/
LOCATION:Starthouse Spessart\, Vorstadtstr. 12\, Lohr am Main\, 97816
CATEGORIES:Beratung,Coaching,Für Gründer:innen,Für Gründungsinteressierte
ATTACH;FMTTYPE=image/png:https://starthouse.de/wp-content/uploads/2024/01/Beratertag-Aktivsenioren-Praesentation.png
END:VEVENT
BEGIN:VEVENT
DTSTART;TZID=Europe/Berlin:20260727T123000
DTEND;TZID=Europe/Berlin:20260727T140000
DTSTAMP:20260422T115610
CREATED:20260223T121726Z
LAST-MODIFIED:20260223T144710Z
UID:8396-1785155400-1785160800@starthouse.de
SUMMARY:Fest (-tisch) der Frauen
DESCRIPTION:Fest (-tisch) der Frauen @ Lohrer Spessart Festwoche – SAVE THE DATE!\n📅 Montag\, 27. Juli 2026 \n⏰ 12:30 – 14:00 Uhr \n📍 Festzelt Lohr am Main (im Rahmen der Lohrer Spessart Festwoche 2025) \nEin Mittagessen. Ein Netzwerk. Viele inspirierende Frauen. \nAm 27. Juli 2026 laden wir euch herzlich ein zum Fest (-tisch) der Frauen. Inmitten der Spessart Festwoche bringen wir Gründerinnen\, Unternehmerinnen\, Entscheiderinnen und engagierte Frauen aus der Region an einen Tisch – zum Austausch\, zur Inspiration und zum gemeinsamen Feiern von weiblicher Perspektive und Leadership. \n🎯 Table Captains werden noch ausgewählt und zeitnah bekanntgegeben.  \n👗 Und keine Sorge: Ein Dirndl ist kein Muss – kommt\, wie ihr euch wohlfühlt. \n📌 Weitere Infos zum Programm folgen in Kürze. Eine Anmeldung ist aber ab sofort möglich.
URL:https://starthouse.de/eventkalender/festtisch-der-frauen-2026/
ORGANIZER;CN="Starthouse Spessart":MAILTO:starthouse@lohr.de
END:VEVENT
BEGIN:VEVENT
DTSTART;TZID=Europe/Berlin:20260910T100000
DTEND;TZID=Europe/Berlin:20260910T120000
DTSTAMP:20260422T115610
CREATED:20260112T125625Z
LAST-MODIFIED:20260112T125625Z
UID:8186-1789034400-1789041600@starthouse.de
SUMMARY:Beratertag der Aktivsenioren im Starthouse
DESCRIPTION:Seit mehr als 15 Jahren bieten die Aktivsenioren Main-Spessart regelmäßige und ehrenamtliche Beratung für Existenzgründer:innen in der Region an. \nUnter dem Motto „Senioren mit Berufserfahrung aus dem Wirtschaftsleben“ geben sie Hinweise für praxisorientierte Lösungen bei Existenzgründungen\, Startups sowie Existenzsicherung kleinerer und mittlerer Unternehmen. Die Schwerpunkte der Beratung liegen in den Bereichen Businessplan\, Planung\, Controlling\, Finanzen\, Personalwesen\, Marketing und Vertrieb sowie Unternehmensnachfolge.\nIn gemeinsamen und vertraulichen Gesprächen werden Antworten zu aktuellen Herausforderungen im Businessaufbau bzw. der Geschäftsinnovation gesucht. \nDie Beratungen der Aktivsenioren finden zwischen 10.00 und 12.00 Uhr im Digitalen Gründerzentrum\, Starthouse Spessart in der Vorstadtstraße 12\, 97816 Lohr a.Main statt. \nFür alle Termine wird um vorherige Anmeldung über das nachfolgende Formular\, per Mail an starthouse@lohr.de oder telefonisch unter 09352-848 600 beim Team des Starthouse Spessart gebeten. \n\n                    Aktivsenioren 2026Über dichVornameNachnameE-MailTelefonnummerTerminanfrageDer Termin wird durch die AktivSenioren\, bzw. das Team des Starthouse Spessart bestätigt.  \nDie Termine finden im Zeitraum von 10:00 bis 12:00 Uhr statt.  An welchem Termin möchtest du teilnehmen: 22.01.2026 05.03.2026 08.05.2026 16.07.2026 10.09.2026 12.11.2026Favorisierte Uhrzeit:DatenschutzEinverständnis Ich bin mit der Verarbeitung meiner Daten zum Zweck der Terminorganisation und der Weitergabe an die zuständigen Aktivsenioren einverstanden. Ich bin damit einverstanden\, dass diese Website meine eingereichten Informationen speichert\, damit sie auf meine Anfrage antworten können. Terminanfrage abschicken
URL:https://starthouse.de/eventkalender/beratertag-der-aktivsenioren-2026-09/
LOCATION:Starthouse Spessart\, Vorstadtstr. 12\, Lohr am Main\, 97816
CATEGORIES:Beratung,Coaching,Für Gründer:innen,Für Gründungsinteressierte
ATTACH;FMTTYPE=image/png:https://starthouse.de/wp-content/uploads/2024/01/Beratertag-Aktivsenioren-Praesentation.png
END:VEVENT
BEGIN:VEVENT
DTSTART;TZID=Europe/Berlin:20261112T100000
DTEND;TZID=Europe/Berlin:20261112T120000
DTSTAMP:20260422T115610
CREATED:20260112T125752Z
LAST-MODIFIED:20260112T125752Z
UID:8188-1794477600-1794484800@starthouse.de
SUMMARY:Beratertag der Aktivsenioren im Starthouse
DESCRIPTION:Seit mehr als 15 Jahren bieten die Aktivsenioren Main-Spessart regelmäßige und ehrenamtliche Beratung für Existenzgründer:innen in der Region an. \nUnter dem Motto „Senioren mit Berufserfahrung aus dem Wirtschaftsleben“ geben sie Hinweise für praxisorientierte Lösungen bei Existenzgründungen\, Startups sowie Existenzsicherung kleinerer und mittlerer Unternehmen. Die Schwerpunkte der Beratung liegen in den Bereichen Businessplan\, Planung\, Controlling\, Finanzen\, Personalwesen\, Marketing und Vertrieb sowie Unternehmensnachfolge.\nIn gemeinsamen und vertraulichen Gesprächen werden Antworten zu aktuellen Herausforderungen im Businessaufbau bzw. der Geschäftsinnovation gesucht. \nDie Beratungen der Aktivsenioren finden zwischen 10.00 und 12.00 Uhr im Digitalen Gründerzentrum\, Starthouse Spessart in der Vorstadtstraße 12\, 97816 Lohr a.Main statt. \nFür alle Termine wird um vorherige Anmeldung über das nachfolgende Formular\, per Mail an starthouse@lohr.de oder telefonisch unter 09352-848 600 beim Team des Starthouse Spessart gebeten. \n\n                    Aktivsenioren 2026Über dichVornameNachnameE-MailTelefonnummerTerminanfrageDer Termin wird durch die AktivSenioren\, bzw. das Team des Starthouse Spessart bestätigt.  \nDie Termine finden im Zeitraum von 10:00 bis 12:00 Uhr statt.  An welchem Termin möchtest du teilnehmen: 22.01.2026 05.03.2026 08.05.2026 16.07.2026 10.09.2026 12.11.2026Favorisierte Uhrzeit:DatenschutzEinverständnis Ich bin mit der Verarbeitung meiner Daten zum Zweck der Terminorganisation und der Weitergabe an die zuständigen Aktivsenioren einverstanden. Ich bin damit einverstanden\, dass diese Website meine eingereichten Informationen speichert\, damit sie auf meine Anfrage antworten können. Terminanfrage abschicken
URL:https://starthouse.de/eventkalender/beratertag-der-aktivsenioren-2026-11/
LOCATION:Starthouse Spessart\, Vorstadtstr. 12\, Lohr am Main\, 97816
CATEGORIES:Beratung,Coaching,Für Gründer:innen,Für Gründungsinteressierte
ATTACH;FMTTYPE=image/png:https://starthouse.de/wp-content/uploads/2024/01/Beratertag-Aktivsenioren-Praesentation.png
END:VEVENT
END:VCALENDAR