BEGIN:VCALENDAR
VERSION:2.0
PRODID:-//Starthouse Spessart - ECPv6.15.20//NONSGML v1.0//EN
CALSCALE:GREGORIAN
METHOD:PUBLISH
X-WR-CALNAME:Starthouse Spessart
X-ORIGINAL-URL:https://starthouse.de
X-WR-CALDESC:Veranstaltungen für Starthouse Spessart
REFRESH-INTERVAL;VALUE=DURATION:PT1H
X-Robots-Tag:noindex
X-PUBLISHED-TTL:PT1H
BEGIN:VTIMEZONE
TZID:Europe/Berlin
BEGIN:DAYLIGHT
TZOFFSETFROM:+0100
TZOFFSETTO:+0200
TZNAME:CEST
DTSTART:20250330T010000
END:DAYLIGHT
BEGIN:STANDARD
TZOFFSETFROM:+0200
TZOFFSETTO:+0100
TZNAME:CET
DTSTART:20251026T010000
END:STANDARD
BEGIN:DAYLIGHT
TZOFFSETFROM:+0100
TZOFFSETTO:+0200
TZNAME:CEST
DTSTART:20260329T010000
END:DAYLIGHT
BEGIN:STANDARD
TZOFFSETFROM:+0200
TZOFFSETTO:+0100
TZNAME:CET
DTSTART:20261025T010000
END:STANDARD
BEGIN:DAYLIGHT
TZOFFSETFROM:+0100
TZOFFSETTO:+0200
TZNAME:CEST
DTSTART:20270328T010000
END:DAYLIGHT
BEGIN:STANDARD
TZOFFSETFROM:+0200
TZOFFSETTO:+0100
TZNAME:CET
DTSTART:20271031T010000
END:STANDARD
END:VTIMEZONE
BEGIN:VEVENT
DTSTART;TZID=Europe/Berlin:20260326T173000
DTEND;TZID=Europe/Berlin:20260326T200000
DTSTAMP:20260422T115150
CREATED:20260126T101839Z
LAST-MODIFIED:20260304T095813Z
UID:8234-1774546200-1774555200@starthouse.de
SUMMARY:KI-Stammtisch
DESCRIPTION:Leider müssen wir den geplanten KI-Stammtisch am 26. März im Starthouse Spessart kurzfristig absagen. \nHintergrund sind die personellen Veränderungen\, die aktuell im Starthouse anstehen. In dieser Übergangsphase können wir das Format organisatorisch leider nicht wie geplant durchführen. \nDer KI-Stammtisch soll aber auf jeden Fall weitergehen!
URL:https://starthouse.de/eventkalender/ki-stammtisch-maerz/
CATEGORIES:Networking
END:VEVENT
END:VCALENDAR